BEGIN:VCALENDAR
VERSION:2.0
PRODID:-//The Door Christian Fellowship Church Southside San Antonio - ECPv6.14.2//NONSGML v1.0//EN
CALSCALE:GREGORIAN
METHOD:PUBLISH
X-ORIGINAL-URL:https://www.thedoorsa.com
X-WR-CALDESC:Events for The Door Christian Fellowship Church Southside San Antonio
REFRESH-INTERVAL;VALUE=DURATION:PT1H
X-Robots-Tag:noindex
X-PUBLISHED-TTL:PT1H
BEGIN:VTIMEZONE
TZID:America/Chicago
BEGIN:DAYLIGHT
TZOFFSETFROM:-0600
TZOFFSETTO:-0500
TZNAME:CDT
DTSTART:20170312T080000
END:DAYLIGHT
BEGIN:STANDARD
TZOFFSETFROM:-0500
TZOFFSETTO:-0600
TZNAME:CST
DTSTART:20171105T070000
END:STANDARD
BEGIN:DAYLIGHT
TZOFFSETFROM:-0600
TZOFFSETTO:-0500
TZNAME:CDT
DTSTART:20180311T080000
END:DAYLIGHT
BEGIN:STANDARD
TZOFFSETFROM:-0500
TZOFFSETTO:-0600
TZNAME:CST
DTSTART:20181104T070000
END:STANDARD
BEGIN:DAYLIGHT
TZOFFSETFROM:-0600
TZOFFSETTO:-0500
TZNAME:CDT
DTSTART:20190310T080000
END:DAYLIGHT
BEGIN:STANDARD
TZOFFSETFROM:-0500
TZOFFSETTO:-0600
TZNAME:CST
DTSTART:20191103T070000
END:STANDARD
BEGIN:DAYLIGHT
TZOFFSETFROM:-0600
TZOFFSETTO:-0500
TZNAME:CDT
DTSTART:20200308T080000
END:DAYLIGHT
BEGIN:STANDARD
TZOFFSETFROM:-0500
TZOFFSETTO:-0600
TZNAME:CST
DTSTART:20201101T070000
END:STANDARD
BEGIN:DAYLIGHT
TZOFFSETFROM:-0600
TZOFFSETTO:-0500
TZNAME:CDT
DTSTART:20210314T080000
END:DAYLIGHT
BEGIN:STANDARD
TZOFFSETFROM:-0500
TZOFFSETTO:-0600
TZNAME:CST
DTSTART:20211107T070000
END:STANDARD
END:VTIMEZONE
BEGIN:VEVENT
DTSTART;VALUE=DATE:20210212
DTEND;VALUE=DATE:20210214
DTSTAMP:20260419T154840
CREATED:20210204T024537Z
LAST-MODIFIED:20210204T024537Z
UID:237583-1613088000-1613260799@www.thedoorsa.com
SUMMARY:Marriage Retreat w/ Pastor Gene LaValley
DESCRIPTION:
URL:https://www.thedoorsa.com/event/marriage-retreat-w-pastor-gene-lavalley/
LOCATION:The Door Church\, 502 E Southcross\, San Antonio\, TX\, 78214\, United States
CATEGORIES:Marriage Retreat,Marriage Seminars
ATTACH;FMTTYPE=image/png:https://www.thedoorsa.com/wp-content/uploads/2021/02/marriage-retreat.png
END:VEVENT
BEGIN:VEVENT
DTSTART;TZID=America/Chicago:20200214T190000
DTEND;TZID=America/Chicago:20200214T210000
DTSTAMP:20260419T154840
CREATED:20200102T024006Z
LAST-MODIFIED:20200102T024006Z
UID:30818-1581706800-1581714000@www.thedoorsa.com
SUMMARY:Marriage Retreat Dinner
DESCRIPTION:
URL:https://www.thedoorsa.com/event/marriage-retreat-dinner/
LOCATION:The Door Church\, 502 E Southcross\, San Antonio\, TX\, 78214\, United States
CATEGORIES:Marriage Retreat
END:VEVENT
BEGIN:VEVENT
DTSTART;TZID=America/Chicago:20170217T200000
DTEND;TZID=America/Chicago:20170217T220000
DTSTAMP:20260419T154840
CREATED:20161216T041339Z
LAST-MODIFIED:20170217T154959Z
UID:5528-1487361600-1487368800@www.thedoorsa.com
SUMMARY:Marriage Retreat
DESCRIPTION:
URL:https://www.thedoorsa.com/event/marriage-retreat/
LOCATION:Omni Hotel\, 9 North Shoreline Blvd\, Corpus Christi\, TX\, 78401\, United States
CATEGORIES:Marriage Retreat
END:VEVENT
END:VCALENDAR