BEGIN:VCALENDAR
VERSION:2.0
PRODID:-//The Door Christian Fellowship Church Southside San Antonio - ECPv6.14.2//NONSGML v1.0//EN
CALSCALE:GREGORIAN
METHOD:PUBLISH
X-WR-CALNAME:The Door Christian Fellowship Church Southside San Antonio
X-ORIGINAL-URL:https://www.thedoorsa.com
X-WR-CALDESC:Events for The Door Christian Fellowship Church Southside San Antonio
REFRESH-INTERVAL;VALUE=DURATION:PT1H
X-Robots-Tag:noindex
X-PUBLISHED-TTL:PT1H
BEGIN:VTIMEZONE
TZID:America/Chicago
BEGIN:DAYLIGHT
TZOFFSETFROM:-0600
TZOFFSETTO:-0500
TZNAME:CDT
DTSTART:20150308T080000
END:DAYLIGHT
BEGIN:STANDARD
TZOFFSETFROM:-0500
TZOFFSETTO:-0600
TZNAME:CST
DTSTART:20151101T070000
END:STANDARD
BEGIN:DAYLIGHT
TZOFFSETFROM:-0600
TZOFFSETTO:-0500
TZNAME:CDT
DTSTART:20160313T080000
END:DAYLIGHT
BEGIN:STANDARD
TZOFFSETFROM:-0500
TZOFFSETTO:-0600
TZNAME:CST
DTSTART:20161106T070000
END:STANDARD
BEGIN:DAYLIGHT
TZOFFSETFROM:-0600
TZOFFSETTO:-0500
TZNAME:CDT
DTSTART:20170312T080000
END:DAYLIGHT
BEGIN:STANDARD
TZOFFSETFROM:-0500
TZOFFSETTO:-0600
TZNAME:CST
DTSTART:20171105T070000
END:STANDARD
BEGIN:DAYLIGHT
TZOFFSETFROM:-0600
TZOFFSETTO:-0500
TZNAME:CDT
DTSTART:20180311T080000
END:DAYLIGHT
BEGIN:STANDARD
TZOFFSETFROM:-0500
TZOFFSETTO:-0600
TZNAME:CST
DTSTART:20181104T070000
END:STANDARD
BEGIN:DAYLIGHT
TZOFFSETFROM:-0600
TZOFFSETTO:-0500
TZNAME:CDT
DTSTART:20190310T080000
END:DAYLIGHT
BEGIN:STANDARD
TZOFFSETFROM:-0500
TZOFFSETTO:-0600
TZNAME:CST
DTSTART:20191103T070000
END:STANDARD
BEGIN:DAYLIGHT
TZOFFSETFROM:-0600
TZOFFSETTO:-0500
TZNAME:CDT
DTSTART:20200308T080000
END:DAYLIGHT
BEGIN:STANDARD
TZOFFSETFROM:-0500
TZOFFSETTO:-0600
TZNAME:CST
DTSTART:20201101T070000
END:STANDARD
BEGIN:DAYLIGHT
TZOFFSETFROM:-0600
TZOFFSETTO:-0500
TZNAME:CDT
DTSTART:20210314T080000
END:DAYLIGHT
BEGIN:STANDARD
TZOFFSETFROM:-0500
TZOFFSETTO:-0600
TZNAME:CST
DTSTART:20211107T070000
END:STANDARD
END:VTIMEZONE
BEGIN:VEVENT
DTSTART;TZID=America/Chicago:20210529T110000
DTEND;TZID=America/Chicago:20210529T170000
DTSTAMP:20260412T224336
CREATED:20210502T174721Z
LAST-MODIFIED:20210502T174721Z
UID:237786-1622286000-1622307600@www.thedoorsa.com
SUMMARY:Converse Invasion Outreach and Concert
DESCRIPTION:
URL:https://www.thedoorsa.com/event/converse-invasion-outreach-and-concert/
LOCATION:The Door Church\, 502 E Southcross\, San Antonio\, TX\, 78214\, United States
CATEGORIES:Concerts,Invasion Team
ATTACH;FMTTYPE=image/png:https://www.thedoorsa.com/wp-content/uploads/2021/05/Puple-World-Autism-Awareness-Facebook-Event-Cover-1.png
END:VEVENT
BEGIN:VEVENT
DTSTART;VALUE=DATE:20210220
DTEND;VALUE=DATE:20210221
DTSTAMP:20260412T224336
CREATED:20210205T014352Z
LAST-MODIFIED:20210205T014352Z
UID:237600-1613779200-1613865599@www.thedoorsa.com
SUMMARY:Port Lavaca Invasion Outreach and Concert
DESCRIPTION:
URL:https://www.thedoorsa.com/event/port-lavaca-invasion-outreach-and-concert/
LOCATION:The Door Church\, 502 E Southcross\, San Antonio\, TX\, 78214\, United States
CATEGORIES:Concerts,Invasion Team
ATTACH;FMTTYPE=image/png:https://www.thedoorsa.com/wp-content/uploads/2021/02/Port-Lavaca-Invasion.png
END:VEVENT
BEGIN:VEVENT
DTSTART;TZID=America/Chicago:20210123T110000
DTEND;TZID=America/Chicago:20210123T170000
DTSTAMP:20260412T224336
CREATED:20210110T161626Z
LAST-MODIFIED:20210110T161741Z
UID:237407-1611399600-1611421200@www.thedoorsa.com
SUMMARY:Corpus Christi Invasion Outreach and Concert
DESCRIPTION:
URL:https://www.thedoorsa.com/event/corpus-christi-invasion-outreach-and-concert/
LOCATION:The Door Church\, 502 E Southcross\, San Antonio\, TX\, 78214\, United States
CATEGORIES:Concerts,Invasion Team
ATTACH;FMTTYPE=image/jpeg:https://www.thedoorsa.com/wp-content/uploads/2021/01/IMG-20201230-WA0001.jpg
END:VEVENT
BEGIN:VEVENT
DTSTART;TZID=America/Chicago:20200926T190000
DTEND;TZID=America/Chicago:20200926T200000
DTSTAMP:20260412T224336
CREATED:20200816T154625Z
LAST-MODIFIED:20200922T173359Z
UID:31142-1601146800-1601150400@www.thedoorsa.com
SUMMARY:Encore Concert On Location Converse Tx
DESCRIPTION:
URL:https://www.thedoorsa.com/event/encore-concert-on-location-converse-tx/
LOCATION:The Door Church\, 502 E Southcross\, San Antonio\, TX\, 78214\, United States
CATEGORIES:Concerts,Invasion Team
ATTACH;FMTTYPE=image/png:https://www.thedoorsa.com/wp-content/uploads/2020/02/New-Screen.png
END:VEVENT
BEGIN:VEVENT
DTSTART;TZID=America/Chicago:20200926T100000
DTEND;TZID=America/Chicago:20200926T130000
DTSTAMP:20260412T224336
CREATED:20200816T154342Z
LAST-MODIFIED:20200922T173306Z
UID:31139-1601114400-1601125200@www.thedoorsa.com
SUMMARY:Converse Outreach Invasion
DESCRIPTION:For Grand Opening pioneer church\, Pastor Joseph.
URL:https://www.thedoorsa.com/event/converse-outreach-invasion/
LOCATION:The Door Church\, 502 E Southcross\, San Antonio\, TX\, 78214\, United States
CATEGORIES:Invasion Team
ATTACH;FMTTYPE=image/png:https://www.thedoorsa.com/wp-content/uploads/2020/08/Converse-Invasion.png
END:VEVENT
BEGIN:VEVENT
DTSTART;TZID=America/Chicago:20200222T110000
DTEND;TZID=America/Chicago:20200222T170000
DTSTAMP:20260412T224336
CREATED:20200202T164328Z
LAST-MODIFIED:20200202T164328Z
UID:30866-1582369200-1582390800@www.thedoorsa.com
SUMMARY:Port Lavaca Invasion Outreach/Concert
DESCRIPTION:
URL:https://www.thedoorsa.com/event/port-lavaca-invasion-outreach-concert/
LOCATION:The Door Port Lavaca\, 446 TX-35\, Port Lavaca\, TX\, 77979\, United States
CATEGORIES:Concerts,Invasion Team
END:VEVENT
BEGIN:VEVENT
DTSTART;TZID=America/Chicago:20200125T090000
DTEND;TZID=America/Chicago:20200125T170000
DTSTAMP:20260412T224336
CREATED:20200102T023803Z
LAST-MODIFIED:20200102T023803Z
UID:30816-1579942800-1579971600@www.thedoorsa.com
SUMMARY:Corpus Christi Invasion Team
DESCRIPTION:
URL:https://www.thedoorsa.com/event/corpus-christi-invasion-team-2/
LOCATION:TX
CATEGORIES:Invasion Team
END:VEVENT
BEGIN:VEVENT
DTSTART;TZID=America/Chicago:20191207T100000
DTEND;TZID=America/Chicago:20191207T150000
DTSTAMP:20260412T224336
CREATED:20191203T235605Z
LAST-MODIFIED:20191203T235605Z
UID:30776-1575712800-1575730800@www.thedoorsa.com
SUMMARY:New Braunfels Invasion Team
DESCRIPTION:
URL:https://www.thedoorsa.com/event/new-braunfels-invasion-team/
LOCATION:TX
CATEGORIES:Invasion Team
END:VEVENT
BEGIN:VEVENT
DTSTART;TZID=America/Chicago:20191123T110000
DTEND;TZID=America/Chicago:20191123T160000
DTSTAMP:20260412T224336
CREATED:20191103T164850Z
LAST-MODIFIED:20191103T180402Z
UID:30705-1574506800-1574524800@www.thedoorsa.com
SUMMARY:Invasion Team/Concert @ NS Church
DESCRIPTION:
URL:https://www.thedoorsa.com/event/invasion-team-concert-ns-church/
LOCATION:The Door Northside\, 9918 San Pedro Ave\, San Antonio\, TX\, 78216\, United States
CATEGORIES:Concerts,Invasion Team
END:VEVENT
BEGIN:VEVENT
DTSTART;VALUE=DATE:20190914
DTEND;VALUE=DATE:20190915
DTSTAMP:20260412T224336
CREATED:20190809T223006Z
LAST-MODIFIED:20190809T223006Z
UID:30519-1568419200-1568505599@www.thedoorsa.com
SUMMARY:Corpus Christi Concert/Outreach Invasion
DESCRIPTION:
URL:https://www.thedoorsa.com/event/corpus-christi-concert-outreach-invasion/
LOCATION:The Door Church\, 502 E Southcross\, San Antonio\, TX\, 78214\, United States
CATEGORIES:Concerts,Invasion Team
END:VEVENT
BEGIN:VEVENT
DTSTART;TZID=America/Chicago:20190722T190000
DTEND;TZID=America/Chicago:20190722T203000
DTSTAMP:20260412T224336
CREATED:20190703T044705Z
LAST-MODIFIED:20190703T044705Z
UID:30460-1563822000-1563827400@www.thedoorsa.com
SUMMARY:Park Outreach
DESCRIPTION:
URL:https://www.thedoorsa.com/event/park-outreach/
LOCATION:The Door Church\, 502 E Southcross\, San Antonio\, TX\, 78214\, United States
CATEGORIES:Concerts,Invasion Team
END:VEVENT
BEGIN:VEVENT
DTSTART;TZID=America/Chicago:20160924T070000
DTEND;TZID=America/Chicago:20160924T170000
DTSTAMP:20260412T224336
CREATED:20160912T174950Z
LAST-MODIFIED:20160912T175041Z
UID:5095-1474700400-1474736400@www.thedoorsa.com
SUMMARY:Houston Invasion Team for Pastor Cardenas
DESCRIPTION:
URL:https://www.thedoorsa.com/event/houston-invasion-team-cardenas/
LOCATION:TX
CATEGORIES:Invasion Team
END:VEVENT
BEGIN:VEVENT
DTSTART;TZID=America/Chicago:20160820T070000
DTEND;TZID=America/Chicago:20160820T170000
DTSTAMP:20260412T224336
CREATED:20160806T161936Z
LAST-MODIFIED:20160806T162035Z
UID:5021-1471676400-1471712400@www.thedoorsa.com
SUMMARY:Houston Invasion Team
DESCRIPTION:
URL:https://www.thedoorsa.com/event/houston-invasion-team/
LOCATION:TX
CATEGORIES:Invasion Team
END:VEVENT
BEGIN:VEVENT
DTSTART;TZID=America/Chicago:20160817T070000
DTEND;TZID=America/Chicago:20160825T170000
DTSTAMP:20260412T224336
CREATED:20160806T161732Z
LAST-MODIFIED:20160806T161841Z
UID:5020-1471417200-1472144400@www.thedoorsa.com
SUMMARY:Atlanta Invasion Team
DESCRIPTION:
URL:https://www.thedoorsa.com/event/atlanta-invasion-team/
LOCATION:TX
CATEGORIES:Invasion Team
END:VEVENT
BEGIN:VEVENT
DTSTART;TZID=America/Chicago:20160813T070000
DTEND;TZID=America/Chicago:20160813T170000
DTSTAMP:20260412T224336
CREATED:20160806T161413Z
LAST-MODIFIED:20160806T161548Z
UID:5018-1471071600-1471107600@www.thedoorsa.com
SUMMARY:Corpus Christi Invasion Team
DESCRIPTION:
URL:https://www.thedoorsa.com/event/corpus-christi-invasion-team/
LOCATION:TX
CATEGORIES:Invasion Team
END:VEVENT
BEGIN:VEVENT
DTSTART;TZID=America/Chicago:20160730T070000
DTEND;TZID=America/Chicago:20160730T170000
DTSTAMP:20260412T224336
CREATED:20160706T211104Z
LAST-MODIFIED:20160706T211104Z
UID:5006-1469862000-1469898000@www.thedoorsa.com
SUMMARY:Katy Invasion Team
DESCRIPTION:
URL:https://www.thedoorsa.com/event/katy-invasion-team/
LOCATION:TX
CATEGORIES:Invasion Team
END:VEVENT
BEGIN:VEVENT
DTSTART;TZID=America/Chicago:20160711T200000
DTEND;TZID=America/Chicago:20160711T220000
DTSTAMP:20260412T224336
CREATED:20160706T210919Z
LAST-MODIFIED:20160706T210919Z
UID:5005-1468267200-1468274400@www.thedoorsa.com
SUMMARY:Outreach at Ramirez Park
DESCRIPTION:
URL:https://www.thedoorsa.com/event/outreach-ramirez-park/
LOCATION:TX
CATEGORIES:Invasion Team
END:VEVENT
BEGIN:VEVENT
DTSTART;TZID=America/Chicago:20160709T200000
DTEND;TZID=America/Chicago:20160709T220000
DTSTAMP:20260412T224336
CREATED:20160702T031037Z
LAST-MODIFIED:20160706T205806Z
UID:4837-1468094400-1468101600@www.thedoorsa.com
SUMMARY:Drive In Movie
DESCRIPTION:
URL:https://www.thedoorsa.com/event/drive-in/
LOCATION:The Door Church\, 502 E Southcross\, San Antonio\, TX\, 78214\, United States
CATEGORIES:Invasion Team
END:VEVENT
BEGIN:VEVENT
DTSTART;TZID=America/Chicago:20160708T200000
DTEND;TZID=America/Chicago:20160708T220000
DTSTAMP:20260412T224336
CREATED:20160706T210044Z
LAST-MODIFIED:20160706T210140Z
UID:4852-1468008000-1468015200@www.thedoorsa.com
SUMMARY:Outreach at Rosemont at Palo Alto
DESCRIPTION:
URL:https://www.thedoorsa.com/event/outreach-rosemont-palo-alto/
LOCATION:TX
CATEGORIES:Invasion Team
END:VEVENT
BEGIN:VEVENT
DTSTART;VALUE=DATE:20160625
DTEND;VALUE=DATE:20160626
DTSTAMP:20260412T224336
CREATED:20160615T203449Z
LAST-MODIFIED:20160615T203635Z
UID:4811-1466812800-1466899199@www.thedoorsa.com
SUMMARY:Invasion Team to Southeast Side Church
DESCRIPTION:
URL:https://www.thedoorsa.com/event/invasion-team-to-southeast/
LOCATION:TX
CATEGORIES:Invasion Team
END:VEVENT
BEGIN:VEVENT
DTSTART;VALUE=DATE:20150926
DTEND;VALUE=DATE:20150927
DTSTAMP:20260412T224336
CREATED:20150902T185257Z
LAST-MODIFIED:20150902T185720Z
UID:4319-1443225600-1443311999@www.thedoorsa.com
SUMMARY:Invasion team & concert Houston church
DESCRIPTION:
URL:https://www.thedoorsa.com/event/invasion-team-concert-houston/
LOCATION:TX
CATEGORIES:Invasion Team
END:VEVENT
BEGIN:VEVENT
DTSTART;VALUE=DATE:20150919
DTEND;VALUE=DATE:20150920
DTSTAMP:20260412T224336
CREATED:20150902T185257Z
LAST-MODIFIED:20150902T185257Z
UID:4318-1442620800-1442707199@www.thedoorsa.com
SUMMARY:Invasion team & concert Austin Hwy church
DESCRIPTION:
URL:https://www.thedoorsa.com/event/invasion-team-concert-austin-hwy-church/
LOCATION:TX
CATEGORIES:Invasion Team
END:VEVENT
END:VCALENDAR